BEGIN:VCALENDAR
VERSION:2.0
PRODID:-//Granty - ECPv6.14.0//NONSGML v1.0//EN
CALSCALE:GREGORIAN
METHOD:PUBLISH
X-WR-CALNAME:Granty
X-ORIGINAL-URL:https://granty.uek.krakow.pl
X-WR-CALDESC:Wydarzenia dla Granty
REFRESH-INTERVAL;VALUE=DURATION:PT1H
X-Robots-Tag:noindex
X-PUBLISHED-TTL:PT1H
BEGIN:VTIMEZONE
TZID:Europe/Warsaw
BEGIN:DAYLIGHT
TZOFFSETFROM:+0100
TZOFFSETTO:+0200
TZNAME:CEST
DTSTART:20250330T010000
END:DAYLIGHT
BEGIN:STANDARD
TZOFFSETFROM:+0200
TZOFFSETTO:+0100
TZNAME:CET
DTSTART:20251026T010000
END:STANDARD
END:VTIMEZONE
BEGIN:VEVENT
DTSTART;TZID=Europe/Warsaw:20250402T130000
DTEND;TZID=Europe/Warsaw:20250402T140000
DTSTAMP:20260419T230628
CREATED:20250310T081501Z
LAST-MODIFIED:20250311T133909Z
UID:6465-1743598800-1743602400@granty.uek.krakow.pl
SUMMARY:Horyzont Europa – praktyczny przewodnik dla UEK
DESCRIPTION:Zasady uczestnictwa i budowanie konsorcjum   \n\n\n\n– Kto może aplikować?  \n\n\n\n– Rola koordynatora i partnerów  \n\n\n\n– Jak budować konsorcjum międzynarodowe – praktyczne wskazówki  \n\n\n\n– Gdzie szukać partnerów do projektu 
URL:https://granty.uek.krakow.pl/kalendarz/granty-na-wyciagniecie-reki-horyzont-europa-z-uek-3/
LOCATION:https://teams.microsoft.com/l/meetup-join/19%3ameeting_MTY1NTYxMmItNzNjZS00OTE5LThiNWYtMWY5MGU2YTk4YzMy%40thread.v2/0?context=%7b%22Tid%22%3a%22dbc0e392-988f-4b49-ae4f-bd7a7a4f4f88%22%2c%22Oid%22%3a%2253c7a221-a973-43c1-8dd6-288091410072%22%7d
CATEGORIES:Szkolenia
END:VEVENT
BEGIN:VEVENT
DTSTART;TZID=Europe/Warsaw:20250409T080000
DTEND;TZID=Europe/Warsaw:20250409T170000
DTSTAMP:20260419T230628
CREATED:20250312T111353Z
LAST-MODIFIED:20250312T111354Z
UID:6514-1744185600-1744218000@granty.uek.krakow.pl
SUMMARY:Otwarcie naboru MSCA Postdoctoral Fellowships 2025
DESCRIPTION:Orientacyjny budżet: 274\,63 mln EUR \n\n\n\nTermin składania wniosków: 10.09.2025 r. \n\n\n\nWięcej informacji: MSCA Postdoctoral Fellowships 2025 | Marie Skłodowska-Curie Actions \n\n\n\nBroszura informacyjna o Horizon: link
URL:https://granty.uek.krakow.pl/kalendarz/otwarcie-naboru-msca-postdoctoral-fellowships-2025/
CATEGORIES:Horizon
END:VEVENT
BEGIN:VEVENT
DTSTART;TZID=Europe/Warsaw:20250409T130000
DTEND;TZID=Europe/Warsaw:20250409T140000
DTSTAMP:20260419T230628
CREATED:20250310T081919Z
LAST-MODIFIED:20250312T081153Z
UID:6470-1744203600-1744207200@granty.uek.krakow.pl
SUMMARY:Horyzont Europa – praktyczny przewodnik dla UEK
DESCRIPTION:Przygotowanie wniosku projektowego – część administracyjna i budżet \n\n\n\n– Rejestracja w Portalu Funding & Tenders  \n\n\n\n– Wypełnianie części administracyjnej wniosku (Part A)  \n\n\n\n– Role w projekcie: koordynator\, partnerzy\, liderzy WP  \n\n\n\n– Dokumenty i załączniki wymagane przy składaniu wniosku  \n\n\n\n– Struktura budżetu \n\n\n\n– Jak skalkulować koszty? \n\n\n\n– Finansowanie typu lump sum
URL:https://granty.uek.krakow.pl/kalendarz/granty-na-wyciagniecie-reki-horyzont-europa-z-uek-4/
LOCATION:https://teams.microsoft.com/l/meetup-join/19%3ameeting_MTY1NTYxMmItNzNjZS00OTE5LThiNWYtMWY5MGU2YTk4YzMy%40thread.v2/0?context=%7b%22Tid%22%3a%22dbc0e392-988f-4b49-ae4f-bd7a7a4f4f88%22%2c%22Oid%22%3a%2253c7a221-a973-43c1-8dd6-288091410072%22%7d
CATEGORIES:Szkolenia
END:VEVENT
BEGIN:VEVENT
DTSTART;TZID=Europe/Warsaw:20250410T170000
DTEND;TZID=Europe/Warsaw:20250410T170000
DTSTAMP:20260419T230628
CREATED:20250313T104316Z
LAST-MODIFIED:20250313T104317Z
UID:6552-1744304400-1744304400@granty.uek.krakow.pl
SUMMARY:Termin składania 1. etapu wniosków Teaming for Excellence (HORIZON-WIDERA-2025-ACCESS-01) w ramach programu Horyzont Europa
DESCRIPTION:Nabór wniosków: Teaming for Excellence (HORIZON-WIDERA-2025-ACCESS-01) w ramach programu Horyzont Europa
URL:https://granty.uek.krakow.pl/kalendarz/termin-skladania-1-etapu-wnioskow-teaming-for-excellence-horizon-widera-2025-access-01-w-ramach-programu-horyzont-europa/
CATEGORIES:Horizon,Terminy składania wniosków
END:VEVENT
BEGIN:VEVENT
DTSTART;TZID=Europe/Warsaw:20250423T130000
DTEND;TZID=Europe/Warsaw:20250423T140000
DTSTAMP:20260419T230628
CREATED:20250310T082005Z
LAST-MODIFIED:20250311T133856Z
UID:6474-1745413200-1745416800@granty.uek.krakow.pl
SUMMARY:Horyzont Europa – praktyczny przewodnik dla UEK
DESCRIPTION:Dokumentacja konkursowa a wniosek projektowy   \n\n\n\n– Jak czytać dokumentację konkursową (Work Programme\, Call Text\, Annexes)  \n\n\n\n– Co wynika z Programu Pracy dla wnioskodawców  \n\n\n\n– Najważniejsze dokumenty do analizy przed przygotowaniem wniosku  \n\n\n\n– Powiązanie zapisów dokumentacji z treścią wniosku 
URL:https://granty.uek.krakow.pl/kalendarz/granty-na-wyciagniecie-reki-horyzont-europa-z-uek-5/
CATEGORIES:Szkolenia
END:VEVENT
END:VCALENDAR