BEGIN:VCALENDAR
VERSION:2.0
PRODID:-//Granty - ECPv6.14.0//NONSGML v1.0//EN
CALSCALE:GREGORIAN
METHOD:PUBLISH
X-WR-CALNAME:Granty
X-ORIGINAL-URL:https://granty.uek.krakow.pl
X-WR-CALDESC:Wydarzenia dla Granty
REFRESH-INTERVAL;VALUE=DURATION:PT1H
X-Robots-Tag:noindex
X-PUBLISHED-TTL:PT1H
BEGIN:VTIMEZONE
TZID:Europe/Warsaw
BEGIN:DAYLIGHT
TZOFFSETFROM:+0100
TZOFFSETTO:+0200
TZNAME:CEST
DTSTART:20250330T010000
END:DAYLIGHT
BEGIN:STANDARD
TZOFFSETFROM:+0200
TZOFFSETTO:+0100
TZNAME:CET
DTSTART:20251026T010000
END:STANDARD
END:VTIMEZONE
BEGIN:VEVENT
DTSTART;TZID=Europe/Warsaw:20250305T170000
DTEND;TZID=Europe/Warsaw:20250305T170000
DTSTAMP:20260420T070009
CREATED:20250213T114939Z
LAST-MODIFIED:20250214T092538Z
UID:6413-1741194000-1741194000@granty.uek.krakow.pl
SUMMARY:Erasmus+ Partnerstwa współpracy w sektorze Szkolnictwa Wyższego termin składania wniosków
DESCRIPTION:Wzór wniosku (link) \n\n\n\nPrezentacja Centrum Obsługi badań Naukowych (link) \n\n\n\nPrezentacja – prof. Grażyna Paliwoda-Pękosz (link) \n\n\n\nPrezentacja – prof. Katarzyna Żmija (link) \n\n\n\nRodzaje Partnerstw Współpracy: \n\n\n\nW ramach Erasmus+ istnieją dwa główne rodzaje Partnerstw Współpracy w sektorze szkolnictwa wyższego: \n\n\n\n\nPartnerstwa na rzecz Innowacji (Partnerships for Innovation): Skupiają się na tworzeniu innowacyjnych produktów\, narzędzi i metod edukacyjnych\, które mają realny wpływ na jakość kształcenia. Mogą obejmować projekty związane z:\n\nRozwojem programów studiów opartych na potrzebach rynku pracy.\n\n\n\nWdrażaniem nowych technologii w nauczaniu (np. e-learning\, blended learning).\n\n\n\nTworzeniem otwartych zasobów edukacyjnych (OER).\n\n\n\nWspieraniem przedsiębiorczości wśród studentów i absolwentów.\n\n\n\n\n\nPartnerstwa na rzecz Wymiany Dobrych Praktyk (Partnerships for Exchange of Good Practices): Koncentrują się na identyfikowaniu\, wymianie i adaptacji sprawdzonych rozwiązań w obszarze edukacji. Mogą obejmować projekty związane z:\n\nPoprawą jakości zarządzania uczelniami.\n\n\n\nWdrażaniem systemów zapewniania jakości.\n\n\n\nRozwojem kompetencji cyfrowych nauczycieli i studentów.\n\n\n\nWspieraniem integracji studentów z grup defaworyzowanych.
URL:https://granty.uek.krakow.pl/kalendarz/erasmus-partnerstwa-wspolpracy-w-sektorze-szkolnictwa-wyzszego-termin-skladania-wnioskow/
CATEGORIES:Erasmus+
END:VEVENT
BEGIN:VEVENT
DTSTART;TZID=Europe/Warsaw:20250306T170000
DTEND;TZID=Europe/Warsaw:20250306T170000
DTSTAMP:20260420T070009
CREATED:20250213T115203Z
LAST-MODIFIED:20250213T125840Z
UID:6416-1741280400-1741280400@granty.uek.krakow.pl
SUMMARY:Erasmus+ Sojusze na rzecz innowacji termin składania wniosków
DESCRIPTION:Wzór wniosku (link) \n\n\n\nPrezentacja Centrum Obsługi badań Naukowych (link) \n\n\n\nPrezentacja – prof. Grażyna Paliwoda-Pękosz (link) \n\n\n\nPrezentacja – prof. Katarzyna Żmija (link)
URL:https://granty.uek.krakow.pl/kalendarz/erasmus-sojusze-na-rzecz-innowacji-termin-skladania-wnioskow/
CATEGORIES:Erasmus+
END:VEVENT
BEGIN:VEVENT
DTSTART;TZID=Europe/Warsaw:20250318T140000
DTEND;TZID=Europe/Warsaw:20250318T150000
DTSTAMP:20260420T070009
CREATED:20250310T072643Z
LAST-MODIFIED:20250310T072646Z
UID:6450-1742306400-1742310000@granty.uek.krakow.pl
SUMMARY:Spotkanie z zespołem Działu Projektów Międzynarodowych
DESCRIPTION:
URL:https://granty.uek.krakow.pl/kalendarz/spotkanie-z-zespolem-dzialu-projektow-miedzynarodowych/
END:VEVENT
BEGIN:VEVENT
DTSTART;TZID=Europe/Warsaw:20250319T130000
DTEND;TZID=Europe/Warsaw:20250319T140000
DTSTAMP:20260420T070009
CREATED:20250310T080318Z
LAST-MODIFIED:20250310T080319Z
UID:6454-1742389200-1742392800@granty.uek.krakow.pl
SUMMARY:Spotkanie z zespołem Działu Projektów Międzynarodowych
DESCRIPTION:
URL:https://granty.uek.krakow.pl/kalendarz/spotkanie-z-zespolem-dzialu-projektow-miedzynarodowych-2/
END:VEVENT
BEGIN:VEVENT
DTSTART;TZID=Europe/Warsaw:20250326T130000
DTEND;TZID=Europe/Warsaw:20250326T140000
DTSTAMP:20260420T070009
CREATED:20250310T080958Z
LAST-MODIFIED:20250311T133917Z
UID:6456-1742994000-1742997600@granty.uek.krakow.pl
SUMMARY:Horyzont Europa – praktyczny przewodnik dla UEK
DESCRIPTION:Wprowadzenie do programu Horyzont Europa + Struktura konkursów i typy projektów   \n\n\n\n– Cele\, struktura i budżet programu  \n\n\n\n– Kluczowe obszary tematyczne i filary  \n\n\n\n– Dlaczego warto aplikować – korzyści dla UEK  \n\n\n\n– Rodzaje konkursów (RIA\, IA\, CSA)  \n\n\n\n– Jak znaleźć odpowiedni konkurs dla siebie  \n\n\n\n– Kalendarz naborów i narzędzia wyszukiwania 
URL:https://granty.uek.krakow.pl/kalendarz/granty-na-wyciagniecie-reki-horyzont-europa-z-uek/
LOCATION:https://teams.microsoft.com/l/meetup-join/19%3ameeting_MTY1NTYxMmItNzNjZS00OTE5LThiNWYtMWY5MGU2YTk4YzMy%40thread.v2/0?context=%7b%22Tid%22%3a%22dbc0e392-988f-4b49-ae4f-bd7a7a4f4f88%22%2c%22Oid%22%3a%2253c7a221-a973-43c1-8dd6-288091410072%22%7d
CATEGORIES:Szkolenia
END:VEVENT
BEGIN:VEVENT
DTSTART;TZID=Europe/Warsaw:20250327T080000
DTEND;TZID=Europe/Warsaw:20250327T170000
DTSTAMP:20260420T070009
CREATED:20250312T105444Z
LAST-MODIFIED:20250312T114222Z
UID:6508-1743062400-1743094800@granty.uek.krakow.pl
SUMMARY:Otwarcie naboru MSCA Staff Exchanges 2025
DESCRIPTION:Orientacyjny budżet: 82\,76 mln EUR \n\n\n\nTermin składania wniosków: 8.10.2025 r. \n\n\n\nWięcej informacji: MSCA Staff Exchanges 2025 | Marie Skłodowska-Curie Actions \n\n\n\nBroszura informacyjna o Horizon: link
URL:https://granty.uek.krakow.pl/kalendarz/otwarcie-naboru-msca-staff-exchanges-2025/
CATEGORIES:Horizon
END:VEVENT
END:VCALENDAR