BEGIN:VCALENDAR
VERSION:2.0
PRODID:-//Granty - ECPv6.14.0//NONSGML v1.0//EN
CALSCALE:GREGORIAN
METHOD:PUBLISH
X-WR-CALNAME:Granty
X-ORIGINAL-URL:https://granty.uek.krakow.pl
X-WR-CALDESC:Wydarzenia dla Granty
REFRESH-INTERVAL;VALUE=DURATION:PT1H
X-Robots-Tag:noindex
X-PUBLISHED-TTL:PT1H
BEGIN:VTIMEZONE
TZID:Europe/Warsaw
BEGIN:DAYLIGHT
TZOFFSETFROM:+0100
TZOFFSETTO:+0200
TZNAME:CEST
DTSTART:20250330T010000
END:DAYLIGHT
BEGIN:STANDARD
TZOFFSETFROM:+0200
TZOFFSETTO:+0100
TZNAME:CET
DTSTART:20251026T010000
END:STANDARD
END:VTIMEZONE
BEGIN:VEVENT
DTSTART;TZID=Europe/Warsaw:20250624T120000
DTEND;TZID=Europe/Warsaw:20250624T120000
DTSTAMP:20260419T230342
CREATED:20250312T112328Z
LAST-MODIFIED:20250312T112329Z
UID:6520-1750766400-1750766400@granty.uek.krakow.pl
SUMMARY:Termin składania wniosków MSCA COFUND 2025
DESCRIPTION:Orientacyjny budżet: 101\,82 mln EUR \n\n\n\nTermin składania wniosków: 24.06.2025 r. \n\n\n\nWięcej informacji: MSCA COFUND 2025 | Marie Skłodowska-Curie Actions \n\n\n\nBroszura informacyjna o Horizon: link
URL:https://granty.uek.krakow.pl/kalendarz/termin-skladania-wnioskow-msca-cofund-2025/
CATEGORIES:Horizon
END:VEVENT
END:VCALENDAR