BEGIN:VCALENDAR
VERSION:2.0
PRODID:-//Granty - ECPv6.14.0//NONSGML v1.0//EN
CALSCALE:GREGORIAN
METHOD:PUBLISH
X-ORIGINAL-URL:https://granty.uek.krakow.pl
X-WR-CALDESC:Wydarzenia dla Granty
REFRESH-INTERVAL;VALUE=DURATION:PT1H
X-Robots-Tag:noindex
X-PUBLISHED-TTL:PT1H
BEGIN:VTIMEZONE
TZID:Europe/Warsaw
BEGIN:DAYLIGHT
TZOFFSETFROM:+0100
TZOFFSETTO:+0200
TZNAME:CEST
DTSTART:20250330T010000
END:DAYLIGHT
BEGIN:STANDARD
TZOFFSETFROM:+0200
TZOFFSETTO:+0100
TZNAME:CET
DTSTART:20251026T010000
END:STANDARD
END:VTIMEZONE
BEGIN:VEVENT
DTSTART;TZID=Europe/Warsaw:20250613T150000
DTEND;TZID=Europe/Warsaw:20250613T150000
DTSTAMP:20260420T065813
CREATED:20250509T104013Z
LAST-MODIFIED:20250509T104025Z
UID:6685-1749826800-1749826800@granty.uek.krakow.pl
SUMMARY:🇦🇹 Polska – Austria 2025 (NAWA)
DESCRIPTION:Nabór na wspólne projekty badawcze między polskimi a austriackimi instytucjami\, organizowany przez NAWA i ÖeAD. Celem konkursu jest wspieranie mobilności naukowców oraz rozwój współpracy badawczej. Wnioskodawcami mogą być uczelnie\, instytuty badawcze i inne jednostki naukowe. \n\n\n\nlink
URL:https://granty.uek.krakow.pl/kalendarz/%f0%9f%87%a6%f0%9f%87%b9-polska-austria-2025-nawa/
CATEGORIES:NAWA,Terminy składania wniosków
END:VEVENT
END:VCALENDAR