BEGIN:VCALENDAR
VERSION:2.0
PRODID:-//Granty - ECPv6.14.0//NONSGML v1.0//EN
CALSCALE:GREGORIAN
METHOD:PUBLISH
X-WR-CALNAME:Granty
X-ORIGINAL-URL:https://granty.uek.krakow.pl
X-WR-CALDESC:Wydarzenia dla Granty
REFRESH-INTERVAL;VALUE=DURATION:PT1H
X-Robots-Tag:noindex
X-PUBLISHED-TTL:PT1H
BEGIN:VTIMEZONE
TZID:Europe/Warsaw
BEGIN:DAYLIGHT
TZOFFSETFROM:+0100
TZOFFSETTO:+0200
TZNAME:CEST
DTSTART:20250330T010000
END:DAYLIGHT
BEGIN:STANDARD
TZOFFSETFROM:+0200
TZOFFSETTO:+0100
TZNAME:CET
DTSTART:20251026T010000
END:STANDARD
END:VTIMEZONE
BEGIN:VEVENT
DTSTART;TZID=Europe/Warsaw:20250520T100000
DTEND;TZID=Europe/Warsaw:20250520T133000
DTSTAMP:20260420T085218
CREATED:20250509T093851Z
LAST-MODIFIED:20250509T093854Z
UID:6675-1747735200-1747747800@granty.uek.krakow.pl
SUMMARY:Szkolenie: ABC wniosku projektowego w Horyzoncie Europa – część administracyjna (A)
DESCRIPTION:Planujesz złożenie projektu w programie Horyzont Europa? Weź udział w szkoleniu poświęconym części administracyjnej wniosku\, organizowanym przez Krajowy Punkt Kontaktowy. Spotkanie pomoże zrozumieć strukturę formularza\, zasady kwalifikowalności i kwestie formalne niezbędne do poprawnego przygotowania aplikacji. \n\n\n\n📅 Szczegóły i rejestracja:https://www.kpk.gov.pl/wydarzenia/abc-wniosku-projektowego-w-horyzoncie-europa-czesc-administracyjna-a-3
URL:https://granty.uek.krakow.pl/kalendarz/szkolenie-abc-wniosku-projektowego-w-horyzoncie-europa-czesc-administracyjna-a/
CATEGORIES:Szkolenia
END:VEVENT
END:VCALENDAR