BEGIN:VCALENDAR
VERSION:2.0
PRODID:-//Granty - ECPv6.14.0//NONSGML v1.0//EN
CALSCALE:GREGORIAN
METHOD:PUBLISH
X-ORIGINAL-URL:https://granty.uek.krakow.pl
X-WR-CALDESC:Wydarzenia dla Granty
REFRESH-INTERVAL;VALUE=DURATION:PT1H
X-Robots-Tag:noindex
X-PUBLISHED-TTL:PT1H
BEGIN:VTIMEZONE
TZID:Europe/Warsaw
BEGIN:DAYLIGHT
TZOFFSETFROM:+0100
TZOFFSETTO:+0200
TZNAME:CEST
DTSTART:20250330T010000
END:DAYLIGHT
BEGIN:STANDARD
TZOFFSETFROM:+0200
TZOFFSETTO:+0100
TZNAME:CET
DTSTART:20251026T010000
END:STANDARD
END:VTIMEZONE
BEGIN:VEVENT
DTSTART;TZID=Europe/Warsaw:20250513T170000
DTEND;TZID=Europe/Warsaw:20250513T170000
DTSTAMP:20260420T065804
CREATED:20250313T102026Z
LAST-MODIFIED:20250313T102027Z
UID:6546-1747155600-1747155600@granty.uek.krakow.pl
SUMMARY:Termin składania wniosków European Cooperation Projects (CREA-CULT-2025-COOP) w ramach programu Kreatywna Europa
DESCRIPTION:Program Creative Europe Programme (CREA) ogłosił nabór wniosków w ramach European Cooperation Projects (CREA-CULT-2025-COOP). Celem konkursu jest wspieranie współpracy międzynarodowej organizacji z sektora kultury i kreatywnego\, niezależnie od ich wielkości\, w realizacji działań sektorowych i międzysektorowych. \n\n\n\nTermin składania wniosków: 13.05.2025 godz. 17:00 (Bruksela) \n\n\n\nAbout the Creative Europe programme – Culture and Creativity
URL:https://granty.uek.krakow.pl/kalendarz/termin-skladania-wnioskow-european-cooperation-projects-crea-cult-2025-coop-w-ramach-programu-kreatywna-europa/
CATEGORIES:Terminy składania wniosków
END:VEVENT
END:VCALENDAR