BEGIN:VCALENDAR
VERSION:2.0
PRODID:-//Granty - ECPv6.14.0//NONSGML v1.0//EN
CALSCALE:GREGORIAN
METHOD:PUBLISH
X-ORIGINAL-URL:https://granty.uek.krakow.pl
X-WR-CALDESC:Wydarzenia dla Granty
REFRESH-INTERVAL;VALUE=DURATION:PT1H
X-Robots-Tag:noindex
X-PUBLISHED-TTL:PT1H
BEGIN:VTIMEZONE
TZID:Europe/Warsaw
BEGIN:DAYLIGHT
TZOFFSETFROM:+0100
TZOFFSETTO:+0200
TZNAME:CEST
DTSTART:20250330T010000
END:DAYLIGHT
BEGIN:STANDARD
TZOFFSETFROM:+0200
TZOFFSETTO:+0100
TZNAME:CET
DTSTART:20251026T010000
END:STANDARD
END:VTIMEZONE
BEGIN:VEVENT
DTSTART;TZID=Europe/Warsaw:20250319T130000
DTEND;TZID=Europe/Warsaw:20250319T140000
DTSTAMP:20260420T181651
CREATED:20250310T080318Z
LAST-MODIFIED:20250310T080319Z
UID:6454-1742389200-1742392800@granty.uek.krakow.pl
SUMMARY:Spotkanie z zespołem Działu Projektów Międzynarodowych
DESCRIPTION:
URL:https://granty.uek.krakow.pl/kalendarz/spotkanie-z-zespolem-dzialu-projektow-miedzynarodowych-2/
END:VEVENT
END:VCALENDAR