BEGIN:VCALENDAR
VERSION:2.0
PRODID:-//Granty - ECPv6.14.0//NONSGML v1.0//EN
CALSCALE:GREGORIAN
METHOD:PUBLISH
X-ORIGINAL-URL:https://granty.uek.krakow.pl
X-WR-CALDESC:Wydarzenia dla Granty
REFRESH-INTERVAL;VALUE=DURATION:PT1H
X-Robots-Tag:noindex
X-PUBLISHED-TTL:PT1H
BEGIN:VTIMEZONE
TZID:Europe/Warsaw
BEGIN:DAYLIGHT
TZOFFSETFROM:+0100
TZOFFSETTO:+0200
TZNAME:CEST
DTSTART:20250330T010000
END:DAYLIGHT
BEGIN:STANDARD
TZOFFSETFROM:+0200
TZOFFSETTO:+0100
TZNAME:CET
DTSTART:20251026T010000
END:STANDARD
END:VTIMEZONE
BEGIN:VEVENT
DTSTART;TZID=Europe/Warsaw:20250305T170000
DTEND;TZID=Europe/Warsaw:20250305T170000
DTSTAMP:20260420T181720
CREATED:20250213T114939Z
LAST-MODIFIED:20250214T092538Z
UID:6413-1741194000-1741194000@granty.uek.krakow.pl
SUMMARY:Erasmus+ Partnerstwa współpracy w sektorze Szkolnictwa Wyższego termin składania wniosków
DESCRIPTION:Wzór wniosku (link) \n\n\n\nPrezentacja Centrum Obsługi badań Naukowych (link) \n\n\n\nPrezentacja – prof. Grażyna Paliwoda-Pękosz (link) \n\n\n\nPrezentacja – prof. Katarzyna Żmija (link) \n\n\n\nRodzaje Partnerstw Współpracy: \n\n\n\nW ramach Erasmus+ istnieją dwa główne rodzaje Partnerstw Współpracy w sektorze szkolnictwa wyższego: \n\n\n\n\nPartnerstwa na rzecz Innowacji (Partnerships for Innovation): Skupiają się na tworzeniu innowacyjnych produktów\, narzędzi i metod edukacyjnych\, które mają realny wpływ na jakość kształcenia. Mogą obejmować projekty związane z:\n\nRozwojem programów studiów opartych na potrzebach rynku pracy.\n\n\n\nWdrażaniem nowych technologii w nauczaniu (np. e-learning\, blended learning).\n\n\n\nTworzeniem otwartych zasobów edukacyjnych (OER).\n\n\n\nWspieraniem przedsiębiorczości wśród studentów i absolwentów.\n\n\n\n\n\nPartnerstwa na rzecz Wymiany Dobrych Praktyk (Partnerships for Exchange of Good Practices): Koncentrują się na identyfikowaniu\, wymianie i adaptacji sprawdzonych rozwiązań w obszarze edukacji. Mogą obejmować projekty związane z:\n\nPoprawą jakości zarządzania uczelniami.\n\n\n\nWdrażaniem systemów zapewniania jakości.\n\n\n\nRozwojem kompetencji cyfrowych nauczycieli i studentów.\n\n\n\nWspieraniem integracji studentów z grup defaworyzowanych.
URL:https://granty.uek.krakow.pl/kalendarz/erasmus-partnerstwa-wspolpracy-w-sektorze-szkolnictwa-wyzszego-termin-skladania-wnioskow/
CATEGORIES:Erasmus+
END:VEVENT
END:VCALENDAR